BEGIN:VCALENDAR
VERSION:2.0
PRODID:-//TFC Ludwigshafen - ECPv6.15.20//NONSGML v1.0//EN
CALSCALE:GREGORIAN
METHOD:PUBLISH
X-ORIGINAL-URL:https://tfc-lu.de
X-WR-CALDESC:Veranstaltungen für TFC Ludwigshafen
REFRESH-INTERVAL;VALUE=DURATION:PT1H
X-Robots-Tag:noindex
X-PUBLISHED-TTL:PT1H
BEGIN:VTIMEZONE
TZID:Europe/Berlin
BEGIN:DAYLIGHT
TZOFFSETFROM:+0100
TZOFFSETTO:+0200
TZNAME:CEST
DTSTART:20250330T010000
END:DAYLIGHT
BEGIN:STANDARD
TZOFFSETFROM:+0200
TZOFFSETTO:+0100
TZNAME:CET
DTSTART:20251026T010000
END:STANDARD
BEGIN:DAYLIGHT
TZOFFSETFROM:+0100
TZOFFSETTO:+0200
TZNAME:CEST
DTSTART:20260329T010000
END:DAYLIGHT
BEGIN:STANDARD
TZOFFSETFROM:+0200
TZOFFSETTO:+0100
TZNAME:CET
DTSTART:20261025T010000
END:STANDARD
BEGIN:DAYLIGHT
TZOFFSETFROM:+0100
TZOFFSETTO:+0200
TZNAME:CEST
DTSTART:20270328T010000
END:DAYLIGHT
BEGIN:STANDARD
TZOFFSETFROM:+0200
TZOFFSETTO:+0100
TZNAME:CET
DTSTART:20271031T010000
END:STANDARD
END:VTIMEZONE
BEGIN:VEVENT
DTSTART;TZID=Europe/Berlin:20260530T150000
DTEND;TZID=Europe/Berlin:20260530T170000
DTSTAMP:20260422T232251
CREATED:20250823T110337Z
LAST-MODIFIED:20260422T204828Z
UID:16295-1780153200-1780160400@tfc-lu.de
SUMMARY:TFC 2-  FC Kaiserslautern (VL\, Herren)
DESCRIPTION:
URL:https://tfc-lu.de/event/tfc-2-fc-kaiserslautern-vl-herren/
LOCATION:Parkstraße 43\, 67061 Ludwigshafen am Rhein\, Deutschland
END:VEVENT
BEGIN:VEVENT
DTSTART;TZID=Europe/Berlin:20260530T173000
DTEND;TZID=Europe/Berlin:20260530T193000
DTSTAMP:20260422T232251
CREATED:20250815T030331Z
LAST-MODIFIED:20260416T203336Z
UID:16061-1780162200-1780169400@tfc-lu.de
SUMMARY:TFC - SG FCK/SVGA (VL\, Damen)
DESCRIPTION:
URL:https://tfc-lu.de/event/tfc-sg-fck-svga-vl-damen/
LOCATION:Parkstraße 43\, 67061 Ludwigshafen am Rhein\, Deutschland
END:VEVENT
END:VCALENDAR