BEGIN:VCALENDAR
VERSION:2.0
PRODID:-//TFC Ludwigshafen - ECPv6.15.20//NONSGML v1.0//EN
CALSCALE:GREGORIAN
METHOD:PUBLISH
X-ORIGINAL-URL:https://tfc-lu.de
X-WR-CALDESC:Veranstaltungen für TFC Ludwigshafen
REFRESH-INTERVAL;VALUE=DURATION:PT1H
X-Robots-Tag:noindex
X-PUBLISHED-TTL:PT1H
BEGIN:VTIMEZONE
TZID:Europe/Berlin
BEGIN:DAYLIGHT
TZOFFSETFROM:+0100
TZOFFSETTO:+0200
TZNAME:CEST
DTSTART:20250330T010000
END:DAYLIGHT
BEGIN:STANDARD
TZOFFSETFROM:+0200
TZOFFSETTO:+0100
TZNAME:CET
DTSTART:20251026T010000
END:STANDARD
BEGIN:DAYLIGHT
TZOFFSETFROM:+0100
TZOFFSETTO:+0200
TZNAME:CEST
DTSTART:20260329T010000
END:DAYLIGHT
BEGIN:STANDARD
TZOFFSETFROM:+0200
TZOFFSETTO:+0100
TZNAME:CET
DTSTART:20261025T010000
END:STANDARD
BEGIN:DAYLIGHT
TZOFFSETFROM:+0100
TZOFFSETTO:+0200
TZNAME:CEST
DTSTART:20270328T010000
END:DAYLIGHT
BEGIN:STANDARD
TZOFFSETFROM:+0200
TZOFFSETTO:+0100
TZNAME:CET
DTSTART:20271031T010000
END:STANDARD
END:VTIMEZONE
BEGIN:VEVENT
DTSTART;TZID=Europe/Berlin:20260222T100000
DTEND;TZID=Europe/Berlin:20260222T160000
DTSTAMP:20260423T090658
CREATED:20251124T094855Z
LAST-MODIFIED:20260221T204830Z
UID:16828-1771754400-1771776000@tfc-lu.de
SUMMARY:mU08 Spieltag (SH)
DESCRIPTION:mU08 Spieltag in der Sporthalle (SH). Uhrzeit angenähert (kein genauer Zeitrahmen in der Tabelle).
URL:https://tfc-lu.de/event/mu08-spieltag-sh-2/
LOCATION:Schulsportzentrum Mundenheim\, Erich-Reimann-Str\, 67065 Ludwigshafen am Rhein
END:VEVENT
BEGIN:VEVENT
DTSTART;TZID=Europe/Berlin:20260222T100000
DTEND;TZID=Europe/Berlin:20260222T180000
DTSTAMP:20260423T090658
CREATED:20251124T094854Z
LAST-MODIFIED:20260221T204830Z
UID:16817-1771754400-1771783200@tfc-lu.de
SUMMARY:Endrunde mU12/wU12 (TH)
DESCRIPTION:Endrunde mU12/wU12 in der Turnhalle (TH). Uhrzeit angenähert (kein genauer Zeitrahmen in der Tabelle).
URL:https://tfc-lu.de/event/endrunde-mu12-wu12-th/
LOCATION:Schulsportzentrum Mundenheim\, Erich-Reimann-Str\, 67065 Ludwigshafen am Rhein
END:VEVENT
END:VCALENDAR